BEGIN:VCALENDAR
VERSION:2.0
PRODID:-//Sid Jacobson JCC - ECPv6.15.14//NONSGML v1.0//EN
CALSCALE:GREGORIAN
METHOD:PUBLISH
X-ORIGINAL-URL:https://www.sjjcc.org
X-WR-CALDESC:Events for Sid Jacobson JCC
REFRESH-INTERVAL;VALUE=DURATION:PT1H
X-Robots-Tag:noindex
X-PUBLISHED-TTL:PT1H
BEGIN:VTIMEZONE
TZID:America/New_York
BEGIN:DAYLIGHT
TZOFFSETFROM:-0500
TZOFFSETTO:-0400
TZNAME:EDT
DTSTART:20240310T070000
END:DAYLIGHT
BEGIN:STANDARD
TZOFFSETFROM:-0400
TZOFFSETTO:-0500
TZNAME:EST
DTSTART:20241103T060000
END:STANDARD
BEGIN:DAYLIGHT
TZOFFSETFROM:-0500
TZOFFSETTO:-0400
TZNAME:EDT
DTSTART:20250309T070000
END:DAYLIGHT
BEGIN:STANDARD
TZOFFSETFROM:-0400
TZOFFSETTO:-0500
TZNAME:EST
DTSTART:20251102T060000
END:STANDARD
BEGIN:DAYLIGHT
TZOFFSETFROM:-0500
TZOFFSETTO:-0400
TZNAME:EDT
DTSTART:20260308T070000
END:DAYLIGHT
BEGIN:STANDARD
TZOFFSETFROM:-0400
TZOFFSETTO:-0500
TZNAME:EST
DTSTART:20261101T060000
END:STANDARD
END:VTIMEZONE
BEGIN:VEVENT
DTSTART;TZID=America/New_York:20250515T190000
DTEND;TZID=America/New_York:20250515T190000
DTSTAMP:20260422T224634
CREATED:20241226T200518Z
LAST-MODIFIED:20241226T200518Z
UID:10139643-1747335600-1747335600@www.sjjcc.org
SUMMARY:The American (Jewish) Songbook with Ned Dorman
DESCRIPTION:Discover the remarkable stories of Jewish artists who shaped the soundtracks of our lives with a captivating exploration of icons like Irving Berlin\, Leonard Bernstein\, Carole King\, and more. Enjoy music videos\, behind-the-scenes anecdotes\, and gain insights into their creative processes as they redefined the music industry and contributed to The Great American Songbook. \n$10 members / $20 nonmembers
URL:https://www.sjjcc.org/event/the-american-jewish-songbook-with-ned-dorman/
LOCATION:Sid Jacobson JCC\, 300 Forest Dr\, East Hills\, NY\, 11548\, United States
CATEGORIES:Adults,Arts + Culture,Seniors
GEO:40.8050284;-73.6379839
X-APPLE-STRUCTURED-LOCATION;VALUE=URI;X-ADDRESS=Sid Jacobson JCC 300 Forest Dr East Hills NY 11548 United States;X-APPLE-RADIUS=500;X-TITLE=300 Forest Dr:geo:-73.6379839,40.8050284
END:VEVENT
END:VCALENDAR