BEGIN:VCALENDAR
VERSION:2.0
PRODID:-//Sid Jacobson JCC - ECPv6.15.14//NONSGML v1.0//EN
CALSCALE:GREGORIAN
METHOD:PUBLISH
X-WR-CALNAME:Sid Jacobson JCC
X-ORIGINAL-URL:https://www.sjjcc.org
X-WR-CALDESC:Events for Sid Jacobson JCC
REFRESH-INTERVAL;VALUE=DURATION:PT1H
X-Robots-Tag:noindex
X-PUBLISHED-TTL:PT1H
BEGIN:VTIMEZONE
TZID:America/New_York
BEGIN:DAYLIGHT
TZOFFSETFROM:-0500
TZOFFSETTO:-0400
TZNAME:EDT
DTSTART:20240310T070000
END:DAYLIGHT
BEGIN:STANDARD
TZOFFSETFROM:-0400
TZOFFSETTO:-0500
TZNAME:EST
DTSTART:20241103T060000
END:STANDARD
BEGIN:DAYLIGHT
TZOFFSETFROM:-0500
TZOFFSETTO:-0400
TZNAME:EDT
DTSTART:20250309T070000
END:DAYLIGHT
BEGIN:STANDARD
TZOFFSETFROM:-0400
TZOFFSETTO:-0500
TZNAME:EST
DTSTART:20251102T060000
END:STANDARD
BEGIN:DAYLIGHT
TZOFFSETFROM:-0500
TZOFFSETTO:-0400
TZNAME:EDT
DTSTART:20260308T070000
END:DAYLIGHT
BEGIN:STANDARD
TZOFFSETFROM:-0400
TZOFFSETTO:-0500
TZNAME:EST
DTSTART:20261101T060000
END:STANDARD
END:VTIMEZONE
BEGIN:VEVENT
DTSTART;TZID=America/New_York:20250205T090000
DTEND;TZID=America/New_York:20250205T170000
DTSTAMP:20260420T183629
CREATED:20241127T172715Z
LAST-MODIFIED:20241127T172715Z
UID:10139447-1738746000-1738774800@www.sjjcc.org
SUMMARY:Anne Frank: The Exhibition
DESCRIPTION:Go on an immersive tour of a full-scale recreation of the Annex where Anne Frank\, her family\, and other inhabitants spent two years hiding to evade capture by the Nazis in Amsterdam. Includes tour at the Center for Jewish History in Manhattan\, lunch at Jack’s Wife Freda\, and transportation to and from the JCC. \nLight bites at SJJCC beginning at 9am\, bus departs at 9:30am\, tour begins at 11:30am\n$165 per person
URL:https://www.sjjcc.org/event/anne-frank-the-exhibition/
LOCATION:Sid Jacobson JCC\, 300 Forest Dr\, East Hills\, NY\, 11548\, United States
CATEGORIES:Adults,Arts + Culture,Jewish Life + Learning,Seniors,Verve 55+ Living
GEO:40.8050284;-73.6379839
X-APPLE-STRUCTURED-LOCATION;VALUE=URI;X-ADDRESS=Sid Jacobson JCC 300 Forest Dr East Hills NY 11548 United States;X-APPLE-RADIUS=500;X-TITLE=300 Forest Dr:geo:-73.6379839,40.8050284
END:VEVENT
BEGIN:VEVENT
DTSTART;TZID=America/New_York:20250209T173000
DTEND;TZID=America/New_York:20250209T220000
DTSTAMP:20260420T183629
CREATED:20250109T230208Z
LAST-MODIFIED:20250109T230208Z
UID:10139665-1739122200-1739138400@www.sjjcc.org
SUMMARY:Super Bowl Party
DESCRIPTION:Ready for the big game? Join us for our Super Bowl LIX Watch Party. Enjoy food\, mingling\, games\, and see who takes home this year’s Lombardi Trophy! \n$40 early bird pricing / $45 after Monday\, February 3
URL:https://www.sjjcc.org/event/super-bowl-party/
LOCATION:Sid Jacobson JCC\, 300 Forest Dr\, East Hills\, NY\, 11548\, United States
CATEGORIES:Adults,Arts + Culture,Seniors,Sports,Verve 55+ Living
GEO:40.8050284;-73.6379839
X-APPLE-STRUCTURED-LOCATION;VALUE=URI;X-ADDRESS=Sid Jacobson JCC 300 Forest Dr East Hills NY 11548 United States;X-APPLE-RADIUS=500;X-TITLE=300 Forest Dr:geo:-73.6379839,40.8050284
END:VEVENT
BEGIN:VEVENT
DTSTART;TZID=America/New_York:20250216T120000
DTEND;TZID=America/New_York:20250216T160000
DTSTAMP:20260420T183629
CREATED:20241226T195312Z
LAST-MODIFIED:20250211T132312Z
UID:10139639-1739707200-1739721600@www.sjjcc.org
SUMMARY:Murder Mystery Brunch
DESCRIPTION:Step into a thrilling whodunit while enjoying a delicious meal! Work with (or against!) your fellow detectives to crack the case\, uncover clues\, and solve the crime before the culprit gets away. \n$40 members / $50 nonmembers
URL:https://www.sjjcc.org/event/murder-mystery-brunch/
LOCATION:Sid Jacobson JCC\, 300 Forest Dr\, East Hills\, NY\, 11548\, United States
CATEGORIES:Adults,Arts + Culture,Seniors
GEO:40.8050284;-73.6379839
X-APPLE-STRUCTURED-LOCATION;VALUE=URI;X-ADDRESS=Sid Jacobson JCC 300 Forest Dr East Hills NY 11548 United States;X-APPLE-RADIUS=500;X-TITLE=300 Forest Dr:geo:-73.6379839,40.8050284
END:VEVENT
END:VCALENDAR