BEGIN:VCALENDAR
VERSION:2.0
PRODID:-//Sid Jacobson JCC - ECPv6.15.14//NONSGML v1.0//EN
CALSCALE:GREGORIAN
METHOD:PUBLISH
X-ORIGINAL-URL:https://www.sjjcc.org
X-WR-CALDESC:Events for Sid Jacobson JCC
REFRESH-INTERVAL;VALUE=DURATION:PT1H
X-Robots-Tag:noindex
X-PUBLISHED-TTL:PT1H
BEGIN:VTIMEZONE
TZID:America/New_York
BEGIN:DAYLIGHT
TZOFFSETFROM:-0500
TZOFFSETTO:-0400
TZNAME:EDT
DTSTART:20250309T070000
END:DAYLIGHT
BEGIN:STANDARD
TZOFFSETFROM:-0400
TZOFFSETTO:-0500
TZNAME:EST
DTSTART:20251102T060000
END:STANDARD
BEGIN:DAYLIGHT
TZOFFSETFROM:-0500
TZOFFSETTO:-0400
TZNAME:EDT
DTSTART:20260308T070000
END:DAYLIGHT
BEGIN:STANDARD
TZOFFSETFROM:-0400
TZOFFSETTO:-0500
TZNAME:EST
DTSTART:20261101T060000
END:STANDARD
BEGIN:DAYLIGHT
TZOFFSETFROM:-0500
TZOFFSETTO:-0400
TZNAME:EDT
DTSTART:20270314T070000
END:DAYLIGHT
BEGIN:STANDARD
TZOFFSETFROM:-0400
TZOFFSETTO:-0500
TZNAME:EST
DTSTART:20271107T060000
END:STANDARD
END:VTIMEZONE
BEGIN:VEVENT
DTSTART;TZID=America/New_York:20260219T110000
DTEND;TZID=America/New_York:20260219T120000
DTSTAMP:20260423T063649
CREATED:20260206T212851Z
LAST-MODIFIED:20260217T143603Z
UID:10141459-1771498800-1771502400@www.sjjcc.org
SUMMARY:Celebrate Black History Month
DESCRIPTION:Join Sid Jacobson JCC for a lively\, FREE performance of traditional West African drumming and dance. Following the performance\, enjoy a variety of hands‑on activities and light refreshments.\nAn engaging\, joyful experience for all ages.
URL:https://www.sjjcc.org/event/celebrate-black-history-month/
LOCATION:Sid Jacobson JCC\, 300 Forest Dr\, East Hills\, NY\, 11548\, United States
CATEGORIES:Center for Community Engagement
GEO:40.8050284;-73.6379839
X-APPLE-STRUCTURED-LOCATION;VALUE=URI;X-ADDRESS=Sid Jacobson JCC 300 Forest Dr East Hills NY 11548 United States;X-APPLE-RADIUS=500;X-TITLE=300 Forest Dr:geo:-73.6379839,40.8050284
END:VEVENT
BEGIN:VEVENT
DTSTART;TZID=America/New_York:20260219T113000
DTEND;TZID=America/New_York:20260219T130000
DTSTAMP:20260423T063649
CREATED:20250610T174656Z
LAST-MODIFIED:20260129T150537Z
UID:10141441-1771500600-1771506000@www.sjjcc.org
SUMMARY:Cancer Wellness: Coffee + Connection
DESCRIPTION:Join fellow cancer survivors in a safe\, supportive space to share your journey\, create beautiful art projects\, and connect with others who truly understand. Talk\, listen\, or simply be in the presence of those who understand—we welcome you with open arms. \nThursdays\, 11:30am-1pm \nAll programs and services offered by the Nancy Marx Cancer Wellness Center\, including our workshops\, are free of charge. To register for a featured event\, please contact Joy Rubel\, LMSW\, at jrubel@sjjcc.org
URL:https://www.sjjcc.org/event/coffeeconnection/2026-02-19/
LOCATION:NY
CATEGORIES:Cancer Wellness Center
END:VEVENT
BEGIN:VEVENT
DTSTART;TZID=America/New_York:20260219T140000
DTEND;TZID=America/New_York:20260219T170000
DTSTAMP:20260423T063649
CREATED:20260120T205522Z
LAST-MODIFIED:20260121T132301Z
UID:10141425-1771509600-1771520400@www.sjjcc.org
SUMMARY:Mah Jongg Immersion
DESCRIPTION:Learn how to play the popular game everyone is talking about in four days using the official rules of the National Mah Jongg League.\nThe 2025 card is required for this class and can be purchased for $15. \nClass size limited. \n4 sessions\nTuesday\, February 17-Friday\, February 20\, 2-5pm\n$145 members / $195 nonmembers
URL:https://www.sjjcc.org/event/mah-jongg-immersion/2026-02-19/
LOCATION:Sid Jacobson JCC\, 300 Forest Dr\, East Hills\, NY\, 11548\, United States
CATEGORIES:Adults,Arts + Culture,Seniors,Special Events,Verve 55+ Living
GEO:40.8050284;-73.6379839
X-APPLE-STRUCTURED-LOCATION;VALUE=URI;X-ADDRESS=Sid Jacobson JCC 300 Forest Dr East Hills NY 11548 United States;X-APPLE-RADIUS=500;X-TITLE=300 Forest Dr:geo:-73.6379839,40.8050284
END:VEVENT
END:VCALENDAR