BEGIN:VCALENDAR
VERSION:2.0
PRODID:-//Sid Jacobson JCC - ECPv6.15.14//NONSGML v1.0//EN
CALSCALE:GREGORIAN
METHOD:PUBLISH
X-WR-CALNAME:Sid Jacobson JCC
X-ORIGINAL-URL:https://www.sjjcc.org
X-WR-CALDESC:Events for Sid Jacobson JCC
REFRESH-INTERVAL;VALUE=DURATION:PT1H
X-Robots-Tag:noindex
X-PUBLISHED-TTL:PT1H
BEGIN:VTIMEZONE
TZID:America/New_York
BEGIN:DAYLIGHT
TZOFFSETFROM:-0500
TZOFFSETTO:-0400
TZNAME:EDT
DTSTART:20240310T070000
END:DAYLIGHT
BEGIN:STANDARD
TZOFFSETFROM:-0400
TZOFFSETTO:-0500
TZNAME:EST
DTSTART:20241103T060000
END:STANDARD
BEGIN:DAYLIGHT
TZOFFSETFROM:-0500
TZOFFSETTO:-0400
TZNAME:EDT
DTSTART:20250309T070000
END:DAYLIGHT
BEGIN:STANDARD
TZOFFSETFROM:-0400
TZOFFSETTO:-0500
TZNAME:EST
DTSTART:20251102T060000
END:STANDARD
BEGIN:DAYLIGHT
TZOFFSETFROM:-0500
TZOFFSETTO:-0400
TZNAME:EDT
DTSTART:20260308T070000
END:DAYLIGHT
BEGIN:STANDARD
TZOFFSETFROM:-0400
TZOFFSETTO:-0500
TZNAME:EST
DTSTART:20261101T060000
END:STANDARD
END:VTIMEZONE
BEGIN:VEVENT
DTSTART;TZID=America/New_York:20251211T153000
DTEND;TZID=America/New_York:20251211T170000
DTSTAMP:20260419T114114
CREATED:20251118T164629Z
LAST-MODIFIED:20251118T164629Z
UID:10140401-1765467000-1765472400@www.sjjcc.org
SUMMARY:Beyond Bereavement
DESCRIPTION:Who Am I? Redefining Identity After Loss\n\nAfter the loss of someone we love\, we may ask: Who am I without them? How do I move forward when everything has shifted? The life we shared\, the roles we played\, and the identity we held can all feel shaken or incomplete.\n\nOpen to anyone who has experienced the death of a loved one\, this workshop offers a space to gently explore how loss and grief reshape identity. Together\, we’ll reflect on the parts of ourselves that have changed\, explore emerging aspects of meaning and purpose\, and consider how to move forward with compassion and authenticity.\nFeaturing thanatologist and social worker Rashida Sanchez\, MA\, LMSW\, FT\,  specializing in grief and loss across the lifespan.\nThursday\, December 11\, 3:30-5pm\n$25 members / $35 nonmembers\nREGISTER
URL:https://www.sjjcc.org/event/beyond-bereavement/
LOCATION:Sid Jacobson JCC\, 300 Forest Dr\, East Hills\, NY\, 11548\, United States
GEO:40.8050284;-73.6379839
X-APPLE-STRUCTURED-LOCATION;VALUE=URI;X-ADDRESS=Sid Jacobson JCC 300 Forest Dr East Hills NY 11548 United States;X-APPLE-RADIUS=500;X-TITLE=300 Forest Dr:geo:-73.6379839,40.8050284
END:VEVENT
BEGIN:VEVENT
DTSTART;TZID=America/New_York:20251211T170000
DTEND;TZID=America/New_York:20251211T190000
DTSTAMP:20260419T114114
CREATED:20241226T201547Z
LAST-MODIFIED:20251121T182443Z
UID:10139646-1765472400-1765479600@www.sjjcc.org
SUMMARY:artSPACE Exhibit Opening
DESCRIPTION:FACES\, LACES\, AND FAR OFF PLACES\nView the vibrant and expressive paintings of Betsy C. Schreiber\, a lifelong artist and award-winning communicator whose work blends abstract and realistic styles to spark emotion and conversation.\nJoin us for the opening night\, featuring a walk-through of the gallery with the artist and a wine-and-cheese reception. It’s a chance to enjoy art\, connect with others\, and take part in a creative experience.\nThursday\, December 11 • 5-7pm\nRegister
URL:https://www.sjjcc.org/event/artspace-exhibit-opening/
LOCATION:Sid Jacobson JCC\, 300 Forest Dr\, East Hills\, NY\, 11548\, United States
CATEGORIES:Arts + Culture,ArtSpace
GEO:40.8050284;-73.6379839
X-APPLE-STRUCTURED-LOCATION;VALUE=URI;X-ADDRESS=Sid Jacobson JCC 300 Forest Dr East Hills NY 11548 United States;X-APPLE-RADIUS=500;X-TITLE=300 Forest Dr:geo:-73.6379839,40.8050284
END:VEVENT
END:VCALENDAR